BEGIN:VCALENDAR
PRODID:-//Calendar export
VERSION:2.0
X-WR-TIMEZONE:Etc/GMT
BEGIN:VTIMEZONE
TZID:GMT Standard Time
BEGIN:STANDARD
TZOFFSETFROM:+0000
TZOFFSETTO:+0000
END:STANDARD
END:VTIMEZONE
BEGIN:VEVENT
UID:AE2264
DTSTAMP:20260423T051200Z
SUMMARY:SQ MIN vs Arrows Silver @ Dix Hills 7:20 AM
CLASS:PUBLIC
DESCRIPTION:
STATUS:CONFIRMED
PRIORITY:1
DTSTART:20231008T112000Z
DTEND:20231008T125000Z
TRANSP:OPAQUE
END:VEVENT
END:VCALENDAR
